BEGIN:VCALENDAR
VERSION:2.0
CALSCALE:GREGORIAN
PRODID:adamgibbons/ics
METHOD:PUBLISH
X-PUBLISHED-TTL:PT1H
BEGIN:VEVENT
UID:42@sydney.askapunk.au
SUMMARY:Trounced\, Scum Fu\, Kneed
DTSTAMP:20260421T083702Z
DTSTART:20260425T090000Z
DTEND:20260425T133000Z
URL:https://sydney.askapunk.au/event/trounced-scum-fu-kneed
GEO:-33.8779851;151.2137927
LOCATION:Oxford Arts Factory - 3/46 Oxford St\, Darlinghurst NSW 2010
STATUS:CONFIRMED
CATEGORIES:Kneed,Scum Fu,Trounced
END:VEVENT
END:VCALENDAR
